BEGIN:VCALENDAR
VERSION:2.0
PRODID:-//Schwarzkaue Herten | Eventlocation - ECPv6.15.20//NONSGML v1.0//EN
CALSCALE:GREGORIAN
METHOD:PUBLISH
X-WR-CALNAME:Schwarzkaue Herten | Eventlocation
X-ORIGINAL-URL:https://schwarzkaue-herten.de
X-WR-CALDESC:Veranstaltungen für Schwarzkaue Herten | Eventlocation
REFRESH-INTERVAL;VALUE=DURATION:PT1H
X-Robots-Tag:noindex
X-PUBLISHED-TTL:PT1H
BEGIN:VTIMEZONE
TZID:Europe/Berlin
BEGIN:DAYLIGHT
TZOFFSETFROM:+0100
TZOFFSETTO:+0200
TZNAME:CEST
DTSTART:20250330T010000
END:DAYLIGHT
BEGIN:STANDARD
TZOFFSETFROM:+0200
TZOFFSETTO:+0100
TZNAME:CET
DTSTART:20251026T010000
END:STANDARD
BEGIN:DAYLIGHT
TZOFFSETFROM:+0100
TZOFFSETTO:+0200
TZNAME:CEST
DTSTART:20260329T010000
END:DAYLIGHT
BEGIN:STANDARD
TZOFFSETFROM:+0200
TZOFFSETTO:+0100
TZNAME:CET
DTSTART:20261025T010000
END:STANDARD
BEGIN:DAYLIGHT
TZOFFSETFROM:+0100
TZOFFSETTO:+0200
TZNAME:CEST
DTSTART:20270328T010000
END:DAYLIGHT
BEGIN:STANDARD
TZOFFSETFROM:+0200
TZOFFSETTO:+0100
TZNAME:CET
DTSTART:20271031T010000
END:STANDARD
END:VTIMEZONE
BEGIN:VEVENT
DTSTART;TZID=Europe/Berlin:20260711T220000
DTEND;TZID=Europe/Berlin:20260712T040000
DTSTAMP:20260423T114306
CREATED:20260422T113527Z
LAST-MODIFIED:20260422T113527Z
UID:10000335-1783807200-1783828800@schwarzkaue-herten.de
SUMMARY:NIGHT SHIFT PARTY mit DJ Goetz & DJ Sneaker
DESCRIPTION:House & Techno für Kenner und Genießer!\nFreut euch auf eine Nacht voller treibender Beats und hypnotischer Sounds: \nDJ Goetz & DJ Sneaker stehen für fein selektierten House und Techno – groovig\, treibend und mit Gespür für den richtigen Moment. Perfekt für alle\, die echte Clubkultur und lange Nächte lieben. \nEhrlicher Sound\, gute Leute und eine Atmosphäre\, in der man sich einfach wohlfühlt. \nEinlass und Beginn: 22:00 Uhr \nVVK: 15\,00 €\nAK:   20\,00 € \nTickets über unsere Homepage\, in Kürze über EVENTIM (zzgl. eventim Service Gebühren) und bei der Firma Weidner Wassertechnik GmbH\, Glückauf-Ring 35-37\, 45699 Herten\nÖffnungszeiten: Mo.-Do. 07:00 Uhr – 15:30 Uhr\, Fr. bis 12:00 Uhr \nHinweis: Bei Vorliegen eines gültigen Schwerbehindertenausweis mit dem Vermerk „B“ zahlen Sie den vollen Preis. Eine Begleitperson dürfen Sie kostenlos mit zu der Veranstaltung nehmen. Der Schwerbehindertenausweis ist bei der Einlasskontrolle vorzuzeigen! \n 
URL:https://schwarzkaue-herten.de/veranstaltung/night-shift-party-mit-dj-goetz-dj-sneaker/
LOCATION:Schwarzkaue Eventlocation\, Glückauf-Ring 35-37\, Herten\, 45699\, Deutschland
CATEGORIES:Party
END:VEVENT
END:VCALENDAR